BEGIN:VCALENDAR
VERSION:2.0
PRODID:-//Kinderhaus Riederau - ECPv6.15.20//NONSGML v1.0//EN
CALSCALE:GREGORIAN
METHOD:PUBLISH
X-ORIGINAL-URL:https://kinderhaus-riederau.de
X-WR-CALDESC:Veranstaltungen für Kinderhaus Riederau
REFRESH-INTERVAL;VALUE=DURATION:PT1H
X-Robots-Tag:noindex
X-PUBLISHED-TTL:PT1H
BEGIN:VTIMEZONE
TZID:Europe/Berlin
BEGIN:DAYLIGHT
TZOFFSETFROM:+0100
TZOFFSETTO:+0200
TZNAME:CEST
DTSTART:20240331T010000
END:DAYLIGHT
BEGIN:STANDARD
TZOFFSETFROM:+0200
TZOFFSETTO:+0100
TZNAME:CET
DTSTART:20241027T010000
END:STANDARD
BEGIN:DAYLIGHT
TZOFFSETFROM:+0100
TZOFFSETTO:+0200
TZNAME:CEST
DTSTART:20250330T010000
END:DAYLIGHT
BEGIN:STANDARD
TZOFFSETFROM:+0200
TZOFFSETTO:+0100
TZNAME:CET
DTSTART:20251026T010000
END:STANDARD
BEGIN:DAYLIGHT
TZOFFSETFROM:+0100
TZOFFSETTO:+0200
TZNAME:CEST
DTSTART:20260329T010000
END:DAYLIGHT
BEGIN:STANDARD
TZOFFSETFROM:+0200
TZOFFSETTO:+0100
TZNAME:CET
DTSTART:20261025T010000
END:STANDARD
END:VTIMEZONE
BEGIN:VEVENT
DTSTART;TZID=Europe/Berlin:20250624T170000
DTEND;TZID=Europe/Berlin:20250624T190000
DTSTAMP:20260423T041851
CREATED:20250530T191954Z
LAST-MODIFIED:20250606T165414Z
UID:10000098-1750784400-1750791600@kinderhaus-riederau.de
SUMMARY:Schultüten basteln mit den Eltern
DESCRIPTION:Die Vorschulkinder basteln gemeinsam mit den Eltern ihre Schultüten. \nInformationen für die Eltern der zukünftigen Schulkinder (PDF)
URL:https://kinderhaus-riederau.de/event/schultueten-basteln-mit-den-eltern/
LOCATION:Kinderhaus Dießen-Riederau am Ammersee
CATEGORIES:Veranstaltungen und sonstige Aktivitäten
ATTACH;FMTTYPE=image/jpeg:https://kinderhaus-riederau.de/wp-content/uploads/w_schultueten_kalender.jpg
END:VEVENT
BEGIN:VEVENT
DTSTART;TZID=Europe/Berlin:20250627T150000
DTEND;TZID=Europe/Berlin:20250627T170000
DTSTAMP:20260423T041851
CREATED:20250604T092258Z
LAST-MODIFIED:20250610T145745Z
UID:10000102-1751036400-1751043600@kinderhaus-riederau.de
SUMMARY:Kinder-Sportfest gemeinsam mit SC Riederau
DESCRIPTION:Am Freitag\, den 27. Juni von 15-17:00 Uhr veranstaltet das Kinderhaus gemeinsam mit dem SC Riederau\nauf dem Sportgelände des SC Riederau ein Sportfest. \nDas Sportfest findet nur bei gutem Wetter statt! \nDownload zum Programm und Rückmeldung an das Kinderhaus \nZum Plakat
URL:https://kinderhaus-riederau.de/event/sportfest-gemeinsam-mit-sc-riederau/
LOCATION:Sportgelände SC Riederau\, Seiboldstraße 36\, Dießen-Riederau\, 86911
CATEGORIES:Veranstaltungen und sonstige Aktivitäten
ATTACH;FMTTYPE=image/jpeg:https://kinderhaus-riederau.de/wp-content/uploads/w_Sportfest-Riederau-Kalender.jpg
END:VEVENT
BEGIN:VEVENT
DTSTART;VALUE=DATE:20250629
DTEND;VALUE=DATE:20250720
DTSTAMP:20260423T041851
CREATED:20250613T122722Z
LAST-MODIFIED:20250703T094154Z
UID:10000103-1751155200-1752969599@kinderhaus-riederau.de
SUMMARY:Stadtradeln 2025
DESCRIPTION:Vom 29.06.2025 bis zum 19.07.2025 können wieder  Kilometer gesammelt und CO2 reduziert werden – Teams\, Kilometerstände und weitere Infos: \nInfo des Elternbeirats \nhttps://www.stadtradeln.de/landkreis-landsberg \n 
URL:https://kinderhaus-riederau.de/event/stadtradeln-2025/
LOCATION:Kinderhaus Dießen-Riederau am Ammersee
CATEGORIES:Veranstaltungen und sonstige Aktivitäten
END:VEVENT
END:VCALENDAR