BEGIN:VCALENDAR
VERSION:2.0
PRODID:-//Kinderhaus Riederau - ECPv6.15.20//NONSGML v1.0//EN
CALSCALE:GREGORIAN
METHOD:PUBLISH
X-ORIGINAL-URL:https://kinderhaus-riederau.de
X-WR-CALDESC:Veranstaltungen für Kinderhaus Riederau
REFRESH-INTERVAL;VALUE=DURATION:PT1H
X-Robots-Tag:noindex
X-PUBLISHED-TTL:PT1H
BEGIN:VTIMEZONE
TZID:Europe/Berlin
BEGIN:DAYLIGHT
TZOFFSETFROM:+0100
TZOFFSETTO:+0200
TZNAME:CEST
DTSTART:20240331T010000
END:DAYLIGHT
BEGIN:STANDARD
TZOFFSETFROM:+0200
TZOFFSETTO:+0100
TZNAME:CET
DTSTART:20241027T010000
END:STANDARD
BEGIN:DAYLIGHT
TZOFFSETFROM:+0100
TZOFFSETTO:+0200
TZNAME:CEST
DTSTART:20250330T010000
END:DAYLIGHT
BEGIN:STANDARD
TZOFFSETFROM:+0200
TZOFFSETTO:+0100
TZNAME:CET
DTSTART:20251026T010000
END:STANDARD
BEGIN:DAYLIGHT
TZOFFSETFROM:+0100
TZOFFSETTO:+0200
TZNAME:CEST
DTSTART:20260329T010000
END:DAYLIGHT
BEGIN:STANDARD
TZOFFSETFROM:+0200
TZOFFSETTO:+0100
TZNAME:CET
DTSTART:20261025T010000
END:STANDARD
END:VTIMEZONE
BEGIN:VEVENT
DTSTART;VALUE=DATE:20250602
DTEND;VALUE=DATE:20250603
DTSTAMP:20260422T234419
CREATED:20250530T191145Z
LAST-MODIFIED:20250530T200155Z
UID:10000095-1748822400-1748908799@kinderhaus-riederau.de
SUMMARY:KlimaMOBILL diesmal zum Thema „Gesunde Ernährung“
DESCRIPTION:Montag\, 02. Juni 2025 kommt wieder das KlimaMOBILL\, diesmal mit dem Thema „Gesunde Ernährung“
URL:https://kinderhaus-riederau.de/event/klima-mobil-mit-dem-thema-gesunde-ernaehrung/
LOCATION:Kinderhaus Dießen-Riederau am Ammersee
CATEGORIES:Veranstaltungen und sonstige Aktivitäten
ATTACH;FMTTYPE=image/jpeg:https://kinderhaus-riederau.de/wp-content/uploads/w_klimamobill.jpg
END:VEVENT
BEGIN:VEVENT
DTSTART;VALUE=DATE:20250603
DTEND;VALUE=DATE:20250604
DTSTAMP:20260422T234419
CREATED:20250530T191601Z
LAST-MODIFIED:20250530T194546Z
UID:10000096-1748908800-1748995199@kinderhaus-riederau.de
SUMMARY:Elternabend Krippe „Sternchen“
DESCRIPTION:Elternabned  für die „Sternchen“ Krippe \nUhrzeit siehe bitte Mitteilung des Kinderhauses.
URL:https://kinderhaus-riederau.de/event/elternabend-krippe-sternchen/
LOCATION:Kinderhaus Dießen-Riederau am Ammersee
CATEGORIES:Veranstaltungen und sonstige Aktivitäten
ATTACH;FMTTYPE=image/jpeg:https://kinderhaus-riederau.de/wp-content/uploads/w_Kalender-Elternabend_allg.jpg
END:VEVENT
BEGIN:VEVENT
DTSTART;VALUE=DATE:20250605
DTEND;VALUE=DATE:20250606
DTSTAMP:20260422T234419
CREATED:20250530T191808Z
LAST-MODIFIED:20250530T194635Z
UID:10000097-1749081600-1749167999@kinderhaus-riederau.de
SUMMARY:Elternabend Krippe "Regenbogen"
DESCRIPTION:Es findet der Elternabned der Regenbogen“ Krippe statt. \nUhrzeit siehe Mitteilung des Kinderhauses.
URL:https://kinderhaus-riederau.de/event/elternabend-krippe-regenbogen/
LOCATION:Kinderhaus Dießen-Riederau am Ammersee
CATEGORIES:Veranstaltungen und sonstige Aktivitäten
ATTACH;FMTTYPE=image/jpeg:https://kinderhaus-riederau.de/wp-content/uploads/w_Kalender-Elternabend_allg.jpg
END:VEVENT
END:VCALENDAR