BEGIN:VCALENDAR
VERSION:2.0
PRODID:-//Kinderhaus Riederau - ECPv6.15.20//NONSGML v1.0//EN
CALSCALE:GREGORIAN
METHOD:PUBLISH
X-WR-CALNAME:Kinderhaus Riederau
X-ORIGINAL-URL:https://kinderhaus-riederau.de
X-WR-CALDESC:Veranstaltungen für Kinderhaus Riederau
REFRESH-INTERVAL;VALUE=DURATION:PT1H
X-Robots-Tag:noindex
X-PUBLISHED-TTL:PT1H
BEGIN:VTIMEZONE
TZID:Europe/Berlin
BEGIN:DAYLIGHT
TZOFFSETFROM:+0100
TZOFFSETTO:+0200
TZNAME:CEST
DTSTART:20230326T010000
END:DAYLIGHT
BEGIN:STANDARD
TZOFFSETFROM:+0200
TZOFFSETTO:+0100
TZNAME:CET
DTSTART:20231029T010000
END:STANDARD
BEGIN:DAYLIGHT
TZOFFSETFROM:+0100
TZOFFSETTO:+0200
TZNAME:CEST
DTSTART:20240331T010000
END:DAYLIGHT
BEGIN:STANDARD
TZOFFSETFROM:+0200
TZOFFSETTO:+0100
TZNAME:CET
DTSTART:20241027T010000
END:STANDARD
BEGIN:DAYLIGHT
TZOFFSETFROM:+0100
TZOFFSETTO:+0200
TZNAME:CEST
DTSTART:20250330T010000
END:DAYLIGHT
BEGIN:STANDARD
TZOFFSETFROM:+0200
TZOFFSETTO:+0100
TZNAME:CET
DTSTART:20251026T010000
END:STANDARD
END:VTIMEZONE
BEGIN:VEVENT
DTSTART;VALUE=DATE:20240609
DTEND;VALUE=DATE:20240630
DTSTAMP:20260422T122427
CREATED:20240513T190014Z
LAST-MODIFIED:20240602T150141Z
UID:10000056-1717891200-1719705599@kinderhaus-riederau.de
SUMMARY:Aktion "Stadtradeln"
DESCRIPTION:Ab Sonntag\, den 09. Juni 2024 bis Samstag\, den 29. Juni 2024 findet wieder die Aktion „Stadtradeln“ statt\, bei der auch wieder unser Kinderhaus\, hoffentlich zahlreich\, mit Groß und Klein\, fleißig vertreten ist. \nbitte noch zahlreich anmelden unter: https://www.stadtradeln.de/index.php?id=171&L=0&team_preselect=28181 \nLesen Sie dazu auch den »Elternbeirats-Brief Nr. 2 zu diesem Thema! (Kennwort erforderlich)
URL:https://kinderhaus-riederau.de/event/aktion-stadtradeln/
LOCATION:Kinderhaus Dießen-Riederau am Ammersee
CATEGORIES:Veranstaltungen und sonstige Aktivitäten
END:VEVENT
BEGIN:VEVENT
DTSTART;VALUE=DATE:20240624
DTEND;VALUE=DATE:20240625
DTSTAMP:20260422T122427
CREATED:20240528T211004Z
LAST-MODIFIED:20240528T211118Z
UID:10000062-1719187200-1719273599@kinderhaus-riederau.de
SUMMARY:Elternabende für die Kindergartengruppen Wolke\, Mond\, Sonne\, für die Wechselkinder und neuen Kinder
DESCRIPTION:Elternabende für die Kindergartengruppen \n\nWolke\,\nMond\nund Sonne für die Wechselkinder\nund neuen Kinder im Kinderhaus
URL:https://kinderhaus-riederau.de/event/elternabende-fuer-die-kindergartengruppen-wolke-mond-und-sonne-fuer-die-wechselkinder-und-neuen-kinder-im-kinderhaus/
LOCATION:Kinderhaus Dießen-Riederau am Ammersee
CATEGORIES:Veranstaltungen und sonstige Aktivitäten
ATTACH;FMTTYPE=image/jpeg:https://kinderhaus-riederau.de/wp-content/uploads/w_Kalender-Elternabend_allg.jpg
END:VEVENT
BEGIN:VEVENT
DTSTART;VALUE=DATE:20240626
DTEND;VALUE=DATE:20240627
DTSTAMP:20260422T122427
CREATED:20240528T211557Z
LAST-MODIFIED:20240528T212745Z
UID:10000063-1719360000-1719446399@kinderhaus-riederau.de
SUMMARY:Gemeinsamer Elternabend für die Krippengruppen Regenbogen und Sternchen
DESCRIPTION:An diesem Tag wird ein gemeinsamer Elternabend für die Krippengruppen „Regenbogen“ und „Sternchen“ stattfinden.
URL:https://kinderhaus-riederau.de/event/emeinsamer-elternabend-fuer-die-krippengruppen-regenbogen-und-sternchen/
LOCATION:Kinderhaus Dießen-Riederau am Ammersee
CATEGORIES:Veranstaltungen und sonstige Aktivitäten
ATTACH;FMTTYPE=image/jpeg:https://kinderhaus-riederau.de/wp-content/uploads/w_Kalender-Elternabend_allg.jpg
END:VEVENT
END:VCALENDAR