BEGIN:VCALENDAR
VERSION:2.0
PRODID:-//Kinderhaus Riederau - ECPv6.15.20//NONSGML v1.0//EN
CALSCALE:GREGORIAN
METHOD:PUBLISH
X-WR-CALNAME:Kinderhaus Riederau
X-ORIGINAL-URL:https://kinderhaus-riederau.de
X-WR-CALDESC:Veranstaltungen für Kinderhaus Riederau
REFRESH-INTERVAL;VALUE=DURATION:PT1H
X-Robots-Tag:noindex
X-PUBLISHED-TTL:PT1H
BEGIN:VTIMEZONE
TZID:Europe/Berlin
BEGIN:DAYLIGHT
TZOFFSETFROM:+0100
TZOFFSETTO:+0200
TZNAME:CEST
DTSTART:20230326T010000
END:DAYLIGHT
BEGIN:STANDARD
TZOFFSETFROM:+0200
TZOFFSETTO:+0100
TZNAME:CET
DTSTART:20231029T010000
END:STANDARD
BEGIN:DAYLIGHT
TZOFFSETFROM:+0100
TZOFFSETTO:+0200
TZNAME:CEST
DTSTART:20240331T010000
END:DAYLIGHT
BEGIN:STANDARD
TZOFFSETFROM:+0200
TZOFFSETTO:+0100
TZNAME:CET
DTSTART:20241027T010000
END:STANDARD
BEGIN:DAYLIGHT
TZOFFSETFROM:+0100
TZOFFSETTO:+0200
TZNAME:CEST
DTSTART:20250330T010000
END:DAYLIGHT
BEGIN:STANDARD
TZOFFSETFROM:+0200
TZOFFSETTO:+0100
TZNAME:CET
DTSTART:20251026T010000
END:STANDARD
END:VTIMEZONE
BEGIN:VEVENT
DTSTART;VALUE=DATE:20240609
DTEND;VALUE=DATE:20240630
DTSTAMP:20260422T152711
CREATED:20240513T190014Z
LAST-MODIFIED:20240602T150141Z
UID:10000056-1717891200-1719705599@kinderhaus-riederau.de
SUMMARY:Aktion "Stadtradeln"
DESCRIPTION:Ab Sonntag\, den 09. Juni 2024 bis Samstag\, den 29. Juni 2024 findet wieder die Aktion „Stadtradeln“ statt\, bei der auch wieder unser Kinderhaus\, hoffentlich zahlreich\, mit Groß und Klein\, fleißig vertreten ist. \nbitte noch zahlreich anmelden unter: https://www.stadtradeln.de/index.php?id=171&L=0&team_preselect=28181 \nLesen Sie dazu auch den »Elternbeirats-Brief Nr. 2 zu diesem Thema! (Kennwort erforderlich)
URL:https://kinderhaus-riederau.de/event/aktion-stadtradeln/
LOCATION:Kinderhaus Dießen-Riederau am Ammersee
CATEGORIES:Veranstaltungen und sonstige Aktivitäten
END:VEVENT
BEGIN:VEVENT
DTSTART;VALUE=DATE:20240619
DTEND;VALUE=DATE:20240620
DTSTAMP:20260422T152712
CREATED:20240513T191110Z
LAST-MODIFIED:20240513T191110Z
UID:10000058-1718755200-1718841599@kinderhaus-riederau.de
SUMMARY:Kinderhaus geschlossen - interne Veranstaltung
DESCRIPTION:Am Mittwoch\, den 19. Juni 2024 hat das Kinderhaus wegen einer internen Veranstaltung ganztätig geschlossen.
URL:https://kinderhaus-riederau.de/event/kinderhaus-geschlossen-interne-veranstaltung/
LOCATION:Kinderhaus Dießen-Riederau am Ammersee
CATEGORIES:Interne Veranstaltung,Kinderhaus geschlossen
END:VEVENT
BEGIN:VEVENT
DTSTART;TZID=Europe/Berlin:20240621T141500
DTEND;TZID=Europe/Berlin:20240621T161500
DTSTAMP:20260422T152712
CREATED:20240528T210449Z
LAST-MODIFIED:20240528T210702Z
UID:10000061-1718979300-1718986500@kinderhaus-riederau.de
SUMMARY:Aktion „Schultüten basteln“ mit unseren zukünftigen Schulkindern
DESCRIPTION:Wir basteln Schultüten mit unseren zukünftigen Schulkindern
URL:https://kinderhaus-riederau.de/event/aktion-schultueten-basteln-mit-unseren-zukuenftigen-schulkindern/
LOCATION:Kinderhaus Dießen-Riederau am Ammersee
CATEGORIES:Veranstaltungen und sonstige Aktivitäten
ATTACH;FMTTYPE=image/jpeg:https://kinderhaus-riederau.de/wp-content/uploads/w_schultueten_kalender.jpg
END:VEVENT
END:VCALENDAR