BEGIN:VCALENDAR
VERSION:2.0
PRODID:-//Kinderhaus Riederau - ECPv6.15.20//NONSGML v1.0//EN
CALSCALE:GREGORIAN
METHOD:PUBLISH
X-WR-CALNAME:Kinderhaus Riederau
X-ORIGINAL-URL:https://kinderhaus-riederau.de
X-WR-CALDESC:Veranstaltungen für Kinderhaus Riederau
REFRESH-INTERVAL;VALUE=DURATION:PT1H
X-Robots-Tag:noindex
X-PUBLISHED-TTL:PT1H
BEGIN:VTIMEZONE
TZID:Europe/Berlin
BEGIN:DAYLIGHT
TZOFFSETFROM:+0100
TZOFFSETTO:+0200
TZNAME:CEST
DTSTART:20230326T010000
END:DAYLIGHT
BEGIN:STANDARD
TZOFFSETFROM:+0200
TZOFFSETTO:+0100
TZNAME:CET
DTSTART:20231029T010000
END:STANDARD
BEGIN:DAYLIGHT
TZOFFSETFROM:+0100
TZOFFSETTO:+0200
TZNAME:CEST
DTSTART:20240331T010000
END:DAYLIGHT
BEGIN:STANDARD
TZOFFSETFROM:+0200
TZOFFSETTO:+0100
TZNAME:CET
DTSTART:20241027T010000
END:STANDARD
BEGIN:DAYLIGHT
TZOFFSETFROM:+0100
TZOFFSETTO:+0200
TZNAME:CEST
DTSTART:20250330T010000
END:DAYLIGHT
BEGIN:STANDARD
TZOFFSETFROM:+0200
TZOFFSETTO:+0100
TZNAME:CET
DTSTART:20251026T010000
END:STANDARD
END:VTIMEZONE
BEGIN:VEVENT
DTSTART;VALUE=DATE:20240312
DTEND;VALUE=DATE:20240313
DTSTAMP:20260422T133834
CREATED:20240128T203918Z
LAST-MODIFIED:20240419T160952Z
UID:10000045-1710201600-1710287999@kinderhaus-riederau.de
SUMMARY:Einheit „Beweg Dich schlau“
DESCRIPTION:Dienstags findet im Turnus von 3 Wochen jeweils eine Einheit „Beweg Dich schlau“ statt. (außer Ferien) \nStart: 30. Januar 2024 \n\n20. Februar 2024\n12. März 2024\nentfällt 22. April 2024\nentfällt 23. April 2024\n14. Mai 2024
URL:https://kinderhaus-riederau.de/event/einheit-beweg-dich-schlau/2024-03-12/
LOCATION:Kinderhaus Dießen-Riederau am Ammersee
CATEGORIES:Veranstaltungen und sonstige Aktivitäten
ATTACH;FMTTYPE=image/jpeg:https://kinderhaus-riederau.de/wp-content/uploads/Logo_BDS_FNS_FAULI_Kombi_RGB-scaled.jpg
END:VEVENT
BEGIN:VEVENT
DTSTART;VALUE=DATE:20240313
DTEND;VALUE=DATE:20240314
DTSTAMP:20260422T133834
CREATED:20240312T151406Z
LAST-MODIFIED:20240312T151406Z
UID:10000054-1710288000-1710374399@kinderhaus-riederau.de
SUMMARY:Info-Elternabend für die Sternchengruppe
DESCRIPTION:Informations-Elternabend für die Sternchengruppe \n 
URL:https://kinderhaus-riederau.de/event/info-elternabend-fuer-die-sternchengruppe/
LOCATION:Kinderhaus Dießen-Riederau am Ammersee
CATEGORIES:Interne Veranstaltung,Veranstaltungen und sonstige Aktivitäten
END:VEVENT
END:VCALENDAR