BEGIN:VCALENDAR
VERSION:2.0
PRODID:-//Kinderhaus Riederau - ECPv6.15.20//NONSGML v1.0//EN
CALSCALE:GREGORIAN
METHOD:PUBLISH
X-ORIGINAL-URL:https://kinderhaus-riederau.de
X-WR-CALDESC:Veranstaltungen für Kinderhaus Riederau
REFRESH-INTERVAL;VALUE=DURATION:PT1H
X-Robots-Tag:noindex
X-PUBLISHED-TTL:PT1H
BEGIN:VTIMEZONE
TZID:Europe/Berlin
BEGIN:DAYLIGHT
TZOFFSETFROM:+0100
TZOFFSETTO:+0200
TZNAME:CEST
DTSTART:20220327T010000
END:DAYLIGHT
BEGIN:STANDARD
TZOFFSETFROM:+0200
TZOFFSETTO:+0100
TZNAME:CET
DTSTART:20221030T010000
END:STANDARD
BEGIN:DAYLIGHT
TZOFFSETFROM:+0100
TZOFFSETTO:+0200
TZNAME:CEST
DTSTART:20230326T010000
END:DAYLIGHT
BEGIN:STANDARD
TZOFFSETFROM:+0200
TZOFFSETTO:+0100
TZNAME:CET
DTSTART:20231029T010000
END:STANDARD
BEGIN:DAYLIGHT
TZOFFSETFROM:+0100
TZOFFSETTO:+0200
TZNAME:CEST
DTSTART:20240331T010000
END:DAYLIGHT
BEGIN:STANDARD
TZOFFSETFROM:+0200
TZOFFSETTO:+0100
TZNAME:CET
DTSTART:20241027T010000
END:STANDARD
END:VTIMEZONE
BEGIN:VEVENT
DTSTART;VALUE=DATE:20230707
DTEND;VALUE=DATE:20230708
DTSTAMP:20260421T110200
CREATED:20230530T184136Z
LAST-MODIFIED:20230624T143504Z
UID:10000007-1688688000-1688774399@kinderhaus-riederau.de
SUMMARY:Sommerfest der Mondgruppe
DESCRIPTION:Die Kinder der Mondgruppe sind schon auf ihr Sommerfest gespannt.
URL:https://kinderhaus-riederau.de/event/sommerfest-der-mondgruppe/
CATEGORIES:Veranstaltungen und sonstige Aktivitäten
ATTACH;FMTTYPE=image/jpeg:https://kinderhaus-riederau.de/wp-content/uploads/w_pikto_mond_rosa_90.jpg
END:VEVENT
BEGIN:VEVENT
DTSTART;VALUE=DATE:20230714
DTEND;VALUE=DATE:20230715
DTSTAMP:20260421T110200
CREATED:20230530T184338Z
LAST-MODIFIED:20230624T143803Z
UID:10000008-1689292800-1689379199@kinderhaus-riederau.de
SUMMARY:Vorschulkinder übernachten im Kinderhaus
DESCRIPTION:Heute Nacht dürfen die Vorschulkinder im Kinderhaus übernachten.
URL:https://kinderhaus-riederau.de/event/vorschulkinder-uebernachten-im-kinderhaus/
CATEGORIES:Veranstaltungen und sonstige Aktivitäten
END:VEVENT
BEGIN:VEVENT
DTSTART;VALUE=DATE:20230715
DTEND;VALUE=DATE:20230716
DTSTAMP:20260421T110200
CREATED:20230530T185242Z
LAST-MODIFIED:20230703T090010Z
UID:10000009-1689379200-1689465599@kinderhaus-riederau.de
SUMMARY:Verabschiedung der Vorschulkinder
DESCRIPTION:Die Kindergartenzeit geht heute für die Vorschulkinder zu Ende und wir werden sie verabschieden.
URL:https://kinderhaus-riederau.de/event/verabschiedung-der-vorschulkinder/
CATEGORIES:Veranstaltungen und sonstige Aktivitäten
ATTACH;FMTTYPE=image/jpeg:https://kinderhaus-riederau.de/wp-content/uploads/w_schultueten_kalender.jpg
END:VEVENT
BEGIN:VEVENT
DTSTART;VALUE=DATE:20230715
DTEND;VALUE=DATE:20230716
DTSTAMP:20260421T110200
CREATED:20230530T185755Z
LAST-MODIFIED:20230530T185755Z
UID:10000010-1689379200-1689465599@kinderhaus-riederau.de
SUMMARY:Frühstück für alle Sonnenkinder und deren Eltern
DESCRIPTION:Die Sonnenkinder frühstücken heute gemeinsam mit ihren Eltern im Kinderhaus.
URL:https://kinderhaus-riederau.de/event/fruehstueck-fuer-alle-sonnenkinder-und-deren-eltern/
CATEGORIES:Veranstaltungen und sonstige Aktivitäten
END:VEVENT
BEGIN:VEVENT
DTSTART;VALUE=DATE:20230731
DTEND;VALUE=DATE:20230814
DTSTAMP:20260421T110200
CREATED:20230530T191453Z
LAST-MODIFIED:20230807T151228Z
UID:10000011-1690761600-1691971199@kinderhaus-riederau.de
SUMMARY:Sommerferien mit Betreuungsdienst
DESCRIPTION:In der Zeit vom 31. Juli bis 13. August findet während der Sommerferien ein Betreuungsdienst statt.\n(Montag – Freitag)
URL:https://kinderhaus-riederau.de/event/sommerferien-mit-betreuungsdienst/
CATEGORIES:Ferienbetreuung mit Anmeldung
ATTACH;FMTTYPE=image/jpeg:https://kinderhaus-riederau.de/wp-content/uploads/w_Kal_sommer_mit_betreuung.jpg
END:VEVENT
END:VCALENDAR