BEGIN:VCALENDAR
VERSION:2.0
PRODID:-//Kinderhaus Riederau - ECPv6.15.20//NONSGML v1.0//EN
CALSCALE:GREGORIAN
METHOD:PUBLISH
X-ORIGINAL-URL:https://kinderhaus-riederau.de
X-WR-CALDESC:Veranstaltungen für Kinderhaus Riederau
REFRESH-INTERVAL;VALUE=DURATION:PT1H
X-Robots-Tag:noindex
X-PUBLISHED-TTL:PT1H
BEGIN:VTIMEZONE
TZID:Europe/Berlin
BEGIN:DAYLIGHT
TZOFFSETFROM:+0100
TZOFFSETTO:+0200
TZNAME:CEST
DTSTART:20220327T010000
END:DAYLIGHT
BEGIN:STANDARD
TZOFFSETFROM:+0200
TZOFFSETTO:+0100
TZNAME:CET
DTSTART:20221030T010000
END:STANDARD
BEGIN:DAYLIGHT
TZOFFSETFROM:+0100
TZOFFSETTO:+0200
TZNAME:CEST
DTSTART:20230326T010000
END:DAYLIGHT
BEGIN:STANDARD
TZOFFSETFROM:+0200
TZOFFSETTO:+0100
TZNAME:CET
DTSTART:20231029T010000
END:STANDARD
BEGIN:DAYLIGHT
TZOFFSETFROM:+0100
TZOFFSETTO:+0200
TZNAME:CEST
DTSTART:20240331T010000
END:DAYLIGHT
BEGIN:STANDARD
TZOFFSETFROM:+0200
TZOFFSETTO:+0100
TZNAME:CET
DTSTART:20241027T010000
END:STANDARD
END:VTIMEZONE
BEGIN:VEVENT
DTSTART;VALUE=DATE:20230529
DTEND;VALUE=DATE:20230603
DTSTAMP:20260423T181537
CREATED:20230530T170804Z
LAST-MODIFIED:20230530T170804Z
UID:10000002-1685318400-1685750399@kinderhaus-riederau.de
SUMMARY:Pfingstferien mit Betreuungsdienst
DESCRIPTION:In der Zeit vom 29. Mai bis 02. Juni  23 wird in der ersten Ferienwoche zu Pfingsten einen Betreuungsdienst angeboten. \nIn der zweiten Woche der Pfingstferien ist das Kinderhaus geschlossen \n  \n  \n  \n 
URL:https://kinderhaus-riederau.de/event/pfingstferien-mit-betreuungsdienst/
CATEGORIES:Ferienbetreuung mit Anmeldung
END:VEVENT
END:VCALENDAR